BEGIN:VCALENDAR
VERSION:2.0
PRODID:-//OmniMagnetCalendar//EN
BEGIN:VEVENT
DTSTAMP:20190625T195740Z
STATUS:CONFIRMED
UID:hrcwestchester.clubs.harvard.edu386
DTSTART:20260304T233000Z
DTEND:20260305T003000Z
LOCATION:HudCo, 145 Palisade St Suite 200, Dobbs Ferry, NY, 10522, United States,
SUMMARY:March 4 - H-Y Fine Cheese and Wine-tasting with alumna Jessica Galen of Bloomy Specialty Cheese Shop
DESCRIPTION:Join us for a tasting of an expertly curated selection of fine cheeses with wine and other accoutrements guided by Jessica Galen AB '07 of Bloomy Specialty Cheese Shop
BEGIN:VALARM
TRIGGER:-PT15M
ACTION:DISPLAY
END:VALARM
TRANSP:OPAQUE
END:VEVENT
END:VCALENDAR
